BEGIN:VCALENDAR
VERSION:2.0
PRODID:-//myjoyfulheart.org//NONSGML kigkonsult.se iCalcreator 2.30.10//
CALSCALE:GREGORIAN
METHOD:PUBLISH
UID:2151b270-744e-4057-a975-2f21d92e27a9
X-WR-CALDESC:
X-WR-RELCALID:eaa6788bacc3cb096c80e21bc098b3ab
X-WR-TIMEZONE:America/Chicago
BEGIN:VTIMEZONE
TZID:America/Chicago
BEGIN:STANDARD
TZNAME:CST
DTSTART:20241103T020000
TZOFFSETFROM:-0500
TZOFFSETTO:-0600
RDATE:20251102T020000
RDATE:20261101T020000
END:STANDARD
BEGIN:DAYLIGHT
TZNAME:CDT
DTSTART:20250309T020000
TZOFFSETFROM:-0600
TZOFFSETTO:-0500
RDATE:20260308T020000
END:DAYLIGHT
END:VTIMEZONE
BEGIN:VEVENT
UID:fd5cd143-509d-4de0-aac4-20915382db60
DTSTAMP:20260423T172517Z
DESCRIPTION:
DTSTART;TZID=America/Chicago:20250526T050000
DTEND;TZID=America/Chicago:20250526T050001
LOCATION:
SUMMARY:CLOSED MEMORIAL DAY
END:VEVENT
END:VCALENDAR
