BEGIN:VCALENDAR
VERSION:2.0
PRODID:-//myjoyfulheart.org//NONSGML kigkonsult.se iCalcreator 2.30.10//
CALSCALE:GREGORIAN
METHOD:PUBLISH
UID:68e8bd37-d877-4c59-a56a-0c3c8a7c60fd
X-WR-CALDESC:Email or Call to see what we are studying!
X-WR-RELCALID:0cead9bf6260efa91576b6d2f1ff5233
X-WR-TIMEZONE:America/Chicago
BEGIN:VTIMEZONE
TZID:America/Chicago
BEGIN:STANDARD
TZNAME:CST
DTSTART:20241103T020000
TZOFFSETFROM:-0500
TZOFFSETTO:-0600
RDATE:20251102T020000
RDATE:20261101T020000
END:STANDARD
BEGIN:DAYLIGHT
TZNAME:CDT
DTSTART:20250309T020000
TZOFFSETFROM:-0600
TZOFFSETTO:-0500
RDATE:20260308T020000
END:DAYLIGHT
END:VTIMEZONE
BEGIN:VEVENT
UID:96bcea1a-4c38-4082-b9b1-11f0edfdfc8f
DTSTAMP:20260423T173811Z
DESCRIPTION:Email or Call to see what we are studying!
DTSTART;TZID=America/Chicago:20250520T081500
DTEND;TZID=America/Chicago:20250520T094500
LOCATION:9981 W. 190th St.\, Suite i\, Mokena\, IL 60448 US
SUMMARY:Bible Study
END:VEVENT
END:VCALENDAR
