BEGIN:VCALENDAR
VERSION:2.0
PRODID:-//myjoyfulheart.org//NONSGML kigkonsult.se iCalcreator 2.30.10//
CALSCALE:GREGORIAN
METHOD:PUBLISH
UID:716855ea-5099-48a8-9e22-860d48579dcb
X-WR-CALDESC:🌸Mother’s Day Boutique Sale! 🌸n\n✨ Treat Mom (or yourself!) to
  something special ✨\n\nJoin us for a charming day of shopping and celebra
 ting all things mom! Our Mother’s Day Boutique Sale will be filled with un
 ique gifts\, handcrafted items\, books\, and lovely finds from local vendo
 rs. Whether you’re looking for the perfect gift or a fun outing with the l
 adies\, this event is made with love just for you!\nTag your favorite shop
 ping buddy and come support the children of My Joyful Heart while making t
 his Mother’s Day extra special. 💕n
X-WR-RELCALID:4efd744823d194459585ae8fb1ce3371
X-WR-TIMEZONE:America/Chicago
BEGIN:VTIMEZONE
TZID:America/Chicago
BEGIN:STANDARD
TZNAME:CST
DTSTART:20241103T020000
TZOFFSETFROM:-0500
TZOFFSETTO:-0600
RDATE:20251102T020000
RDATE:20261101T020000
END:STANDARD
BEGIN:DAYLIGHT
TZNAME:CDT
DTSTART:20250309T020000
TZOFFSETFROM:-0600
TZOFFSETTO:-0500
RDATE:20260308T020000
END:DAYLIGHT
END:VTIMEZONE
BEGIN:VEVENT
UID:11b79010-2dc1-43be-ae7d-a8bd95ce4417
DTSTAMP:20260423T173056Z
DESCRIPTION:🌸Mother’s Day Boutique Sale! 🌸n\n✨ Treat Mom (or yourself!) to 
 something special ✨\n\nJoin us for a charming day of shopping and celebrat
 ing all things mom! Our Mother’s Day Boutique Sale will be filled with uni
 que gifts\, handcrafted items\, books\, and lovely finds from local vendor
 s. Whether you’re looking for the perfect gift or a fun outing with the la
 dies\, this event is made with love just for you!\nTag your favorite shopp
 ing buddy and come support the children of My Joyful Heart while making th
 is Mother’s Day extra special. 💕n
DTSTART;TZID=America/Chicago:20250503T093000
DTEND;TZID=America/Chicago:20250503T130000
LOCATION:9981 W. 190th St.\, Suite j\, Mokena\, IL 60448 US
SUMMARY:BOUTIQUE OPEN
END:VEVENT
END:VCALENDAR
