BEGIN:VCALENDAR
VERSION:2.0
PRODID:-//myjoyfulheart.org//NONSGML kigkonsult.se iCalcreator 2.30.10//
CALSCALE:GREGORIAN
METHOD:PUBLISH
UID:3572b0c8-05cb-4bd2-a7e2-da326493a8c0
X-WR-CALDESC:
X-WR-RELCALID:512c8351ba126f99fa8eb774bcc24e67
X-WR-TIMEZONE:America/Chicago
BEGIN:VTIMEZONE
TZID:America/Chicago
BEGIN:STANDARD
TZNAME:CST
DTSTART:20241103T020000
TZOFFSETFROM:-0500
TZOFFSETTO:-0600
RDATE:20251102T020000
RDATE:20261101T020000
END:STANDARD
BEGIN:DAYLIGHT
TZNAME:CDT
DTSTART:20250309T020000
TZOFFSETFROM:-0600
TZOFFSETTO:-0500
RDATE:20260308T020000
END:DAYLIGHT
END:VTIMEZONE
BEGIN:VEVENT
UID:480fa4cb-fd81-49ac-80d3-9329fe2f9b6d
DTSTAMP:20260423T173506Z
DESCRIPTION:
DTSTART;TZID=America/Chicago:20250502T180000
DTEND;TZID=America/Chicago:20250502T213000
LOCATION:10850 187th St.\, Suite i\, Mokena\, IL 60448 US
SUMMARY:Trivia Night!
END:VEVENT
END:VCALENDAR
