BEGIN:VCALENDAR
VERSION:2.0
PRODID:-//myjoyfulheart.org//NONSGML kigkonsult.se iCalcreator 2.30.10//
CALSCALE:GREGORIAN
METHOD:PUBLISH
UID:872cc645-f28c-442b-b7df-fb287ad3ada5
X-WR-CALDESC:Email or Call to see what we are studying!
X-WR-RELCALID:163eb9fe5d037ad78688e2f76aed2001
X-WR-TIMEZONE:America/Chicago
BEGIN:VTIMEZONE
TZID:America/Chicago
BEGIN:STANDARD
TZNAME:CST
DTSTART:20241103T020000
TZOFFSETFROM:-0500
TZOFFSETTO:-0600
RDATE:20251102T020000
END:STANDARD
BEGIN:DAYLIGHT
TZNAME:CDT
DTSTART:20250309T020000
TZOFFSETFROM:-0600
TZOFFSETTO:-0500
RDATE:20260308T020000
END:DAYLIGHT
END:VTIMEZONE
BEGIN:VEVENT
UID:ef807bb3-74bb-4803-b206-4eacb0b1f328
DTSTAMP:20260424T005318Z
DESCRIPTION:Email or Call to see what we are studying!
DTSTART;TZID=America/Chicago:20250311T081500
DTEND;TZID=America/Chicago:20250311T094500
LOCATION:9981 W. 190th St.\, Suite i\, Mokena\, IL 60448 US
SUMMARY:Bible Study
END:VEVENT
END:VCALENDAR
