BEGIN:VCALENDAR
VERSION:2.0
PRODID:-//myjoyfulheart.org//NONSGML kigkonsult.se iCalcreator 2.30.10//
CALSCALE:GREGORIAN
METHOD:PUBLISH
UID:abebb8ec-dfa0-40ea-af7d-5dc0e7c15a72
X-WR-CALDESC:Email or Call to see what we are studying!
X-WR-RELCALID:f50907955acc4c6436d3198234a841c3
X-WR-TIMEZONE:America/Chicago
BEGIN:VTIMEZONE
TZID:America/Chicago
BEGIN:STANDARD
TZNAME:CST
DTSTART:20241103T020000
TZOFFSETFROM:-0500
TZOFFSETTO:-0600
RDATE:20251102T020000
END:STANDARD
BEGIN:DAYLIGHT
TZNAME:CDT
DTSTART:20240310T020000
TZOFFSETFROM:-0600
TZOFFSETTO:-0500
RDATE:20250309T020000
RDATE:20260308T020000
END:DAYLIGHT
END:VTIMEZONE
BEGIN:VEVENT
UID:e10a3355-3cd2-42fc-9796-58f4f54f3b52
DTSTAMP:20260424T005339Z
DESCRIPTION:Email or Call to see what we are studying!
DTSTART;TZID=America/Chicago:20250304T081500
DTEND;TZID=America/Chicago:20250304T094500
LOCATION:9981 W. 190th St.\, Suite i\, Mokena\, IL 60448 US
SUMMARY:Bible Study
END:VEVENT
END:VCALENDAR
