BEGIN:VCALENDAR
VERSION:2.0
PRODID:-//myjoyfulheart.org//NONSGML kigkonsult.se iCalcreator 2.30.10//
CALSCALE:GREGORIAN
METHOD:PUBLISH
UID:7d7c0d7e-a364-49ee-b9a0-3f7d40b0a3b5
X-WR-CALDESC:
X-WR-RELCALID:e4da433f2f92d63b2e66b8c417233ea9
X-WR-TIMEZONE:America/Chicago
BEGIN:VTIMEZONE
TZID:America/Chicago
BEGIN:STANDARD
TZNAME:CST
DTSTART:20241103T020000
TZOFFSETFROM:-0500
TZOFFSETTO:-0600
RDATE:20251102T020000
END:STANDARD
BEGIN:DAYLIGHT
TZNAME:CDT
DTSTART:20240310T020000
TZOFFSETFROM:-0600
TZOFFSETTO:-0500
RDATE:20250309T020000
RDATE:20260308T020000
END:DAYLIGHT
END:VTIMEZONE
BEGIN:VEVENT
UID:dddf334f-b472-4c01-8525-2b715032574d
DTSTAMP:20260424T051905Z
DESCRIPTION:
DTSTART;TZID=America/Chicago:20241219T090000
DTEND;TZID=America/Chicago:20241219T140000
LOCATION:9981 W. 190th St.\, Suite J\, Mokena\, AL 60448 US
SUMMARY:Boutique Open
END:VEVENT
END:VCALENDAR
