BEGIN:VCALENDAR
VERSION:2.0
PRODID:-//myjoyfulheart.org//NONSGML kigkonsult.se iCalcreator 2.30.10//
CALSCALE:GREGORIAN
METHOD:PUBLISH
UID:672d925e-4e70-4b82-b344-bb75111f471e
X-WR-CALDESC:
X-WR-RELCALID:0c8c840ea1bddf23e44554d70d6a601d
X-WR-TIMEZONE:America/Chicago
BEGIN:VTIMEZONE
TZID:America/Chicago
BEGIN:STANDARD
TZNAME:CST
DTSTART:20241103T020000
TZOFFSETFROM:-0500
TZOFFSETTO:-0600
RDATE:20251102T020000
END:STANDARD
BEGIN:DAYLIGHT
TZNAME:CDT
DTSTART:20240310T020000
TZOFFSETFROM:-0600
TZOFFSETTO:-0500
RDATE:20250309T020000
RDATE:20260308T020000
END:DAYLIGHT
END:VTIMEZONE
BEGIN:VEVENT
UID:56cea135-012a-411d-9f9f-a2b2ef1566a0
DTSTAMP:20260424T052041Z
DESCRIPTION:
DTSTART;TZID=America/Chicago:20241218T090000
DTEND;TZID=America/Chicago:20241218T140000
LOCATION:9981 W. 190th St.\, Suite J\, Mokena\, AL 60448 US
SUMMARY:Boutique Open
END:VEVENT
END:VCALENDAR
