BEGIN:VCALENDAR
VERSION:2.0
PRODID:-//myjoyfulheart.org//NONSGML kigkonsult.se iCalcreator 2.30.10//
CALSCALE:GREGORIAN
METHOD:PUBLISH
UID:3d7f7a0e-884a-49e9-84b2-d5a391a0a1c5
X-WR-CALDESC:Email or Call to see what we are studying!
X-WR-RELCALID:e9de7441f1de21eab94904b33b6263bd
X-WR-TIMEZONE:America/Chicago
BEGIN:VTIMEZONE
TZID:America/Chicago
BEGIN:STANDARD
TZNAME:CST
DTSTART:20241103T020000
TZOFFSETFROM:-0500
TZOFFSETTO:-0600
RDATE:20251102T020000
END:STANDARD
BEGIN:DAYLIGHT
TZNAME:CDT
DTSTART:20240310T020000
TZOFFSETFROM:-0600
TZOFFSETTO:-0500
RDATE:20250309T020000
RDATE:20260308T020000
END:DAYLIGHT
END:VTIMEZONE
BEGIN:VEVENT
UID:0c0bd4ed-aed1-43bc-a5d4-5e474ebe9a15
DTSTAMP:20260424T051708Z
DESCRIPTION:Email or Call to see what we are studying!
DTSTART;TZID=America/Chicago:20241210T081500
DTEND;TZID=America/Chicago:20241210T094500
LOCATION:9981 W. 190th St.\, Suite i\, Mokena\, IL 60448 US
SUMMARY:Bible Study
END:VEVENT
END:VCALENDAR
