BEGIN:VCALENDAR
VERSION:2.0
PRODID:-//myjoyfulheart.org//NONSGML kigkonsult.se iCalcreator 2.30.10//
CALSCALE:GREGORIAN
METHOD:PUBLISH
UID:6ddc19d9-238e-4856-94fd-420749071c25
X-WR-CALDESC:
X-WR-RELCALID:20a08e9e4beb6466ee314dbb68f374de
X-WR-TIMEZONE:America/Chicago
BEGIN:VTIMEZONE
TZID:America/Chicago
BEGIN:STANDARD
TZNAME:CST
DTSTART:20241103T020000
TZOFFSETFROM:-0500
TZOFFSETTO:-0600
RDATE:20251102T020000
END:STANDARD
BEGIN:DAYLIGHT
TZNAME:CDT
DTSTART:20240310T020000
TZOFFSETFROM:-0600
TZOFFSETTO:-0500
RDATE:20250309T020000
RDATE:20260308T020000
END:DAYLIGHT
END:VTIMEZONE
BEGIN:VEVENT
UID:cd6d33a9-f849-43a8-9aaf-b818098f1832
DTSTAMP:20260424T051604Z
DESCRIPTION:
DTSTART;TZID=America/Chicago:20241207T093000
DTEND;TZID=America/Chicago:20241207T130000
LOCATION:9981 W 190th St. \, Suite J\, Mokena\, IL 60423 US
SUMMARY:Boutique Open
END:VEVENT
END:VCALENDAR
