BEGIN:VCALENDAR
VERSION:2.0
PRODID:-//myjoyfulheart.org//NONSGML kigkonsult.se iCalcreator 2.30.10//
CALSCALE:GREGORIAN
METHOD:PUBLISH
UID:8ef897ff-b17f-42d4-9c76-e5aeed65cb71
X-WR-CALDESC:
X-WR-RELCALID:097d26facec3f0a6076efcd763e5ae8e
X-WR-TIMEZONE:America/Chicago
BEGIN:VTIMEZONE
TZID:America/Chicago
BEGIN:STANDARD
TZNAME:CST
DTSTART:20241103T020000
TZOFFSETFROM:-0500
TZOFFSETTO:-0600
RDATE:20251102T020000
END:STANDARD
BEGIN:DAYLIGHT
TZNAME:CDT
DTSTART:20240310T020000
TZOFFSETFROM:-0600
TZOFFSETTO:-0500
RDATE:20250309T020000
RDATE:20260308T020000
END:DAYLIGHT
END:VTIMEZONE
BEGIN:VEVENT
UID:92478b83-70cb-4cce-86d4-a2d4cce64a97
DTSTAMP:20260424T051725Z
DESCRIPTION:
DTSTART;TZID=America/Chicago:20241203T170000
DTEND;TZID=America/Chicago:20241203T190000
LOCATION:9981 W 190th St.\, Suite J\, Mokena\, IL 60448 US
SUMMARY:Boutique open evening hours
END:VEVENT
END:VCALENDAR
