BEGIN:VCALENDAR
VERSION:2.0
PRODID:-//myjoyfulheart.org//NONSGML kigkonsult.se iCalcreator 2.30.10//
CALSCALE:GREGORIAN
METHOD:PUBLISH
UID:56336e62-2873-4ca2-b65d-bad1beab3a2d
X-WR-CALDESC:Come visit us today before we close for Thanksgiving and meet 
 one of our families that are serving together in the boutique! They will h
 elp you with your last-minute hostess gifts and purchases!
X-WR-RELCALID:c06d67aa291c4172d41f0d68227e4fee
X-WR-TIMEZONE:America/Chicago
BEGIN:VTIMEZONE
TZID:America/Chicago
BEGIN:STANDARD
TZNAME:CST
DTSTART:20241103T020000
TZOFFSETFROM:-0500
TZOFFSETTO:-0600
RDATE:20251102T020000
END:STANDARD
BEGIN:DAYLIGHT
TZNAME:CDT
DTSTART:20240310T020000
TZOFFSETFROM:-0600
TZOFFSETTO:-0500
RDATE:20250309T020000
RDATE:20260308T020000
END:DAYLIGHT
END:VTIMEZONE
BEGIN:VEVENT
UID:4b38a802-d10b-4476-b9f2-3d7d14424edb
DTSTAMP:20260424T070336Z
DESCRIPTION:Come visit us today before we close for Thanksgiving and meet o
 ne of our families that are serving together in the boutique! They will he
 lp you with your last-minute hostess gifts and purchases!
DTSTART;TZID=America/Chicago:20241127T093000
DTEND;TZID=America/Chicago:20241127T130000
LOCATION:9981 W. 190th St.\, Suite J\, Mokena\, IL 60448 US
SUMMARY:Boutique Open - Special Family Takeover!
END:VEVENT
END:VCALENDAR
