BEGIN:VCALENDAR
VERSION:2.0
PRODID:-//myjoyfulheart.org//NONSGML kigkonsult.se iCalcreator 2.30.10//
CALSCALE:GREGORIAN
METHOD:PUBLISH
UID:40bf0ab6-f497-4e0b-ab3e-89058d66e897
X-WR-CALDESC:Email or Call to see what we are studying!
X-WR-RELCALID:6aa157fe9357bcfcd4bdde614097569c
X-WR-TIMEZONE:America/Chicago
BEGIN:VTIMEZONE
TZID:America/Chicago
BEGIN:STANDARD
TZNAME:CST
DTSTART:20241103T020000
TZOFFSETFROM:-0500
TZOFFSETTO:-0600
RDATE:20251102T020000
END:STANDARD
BEGIN:DAYLIGHT
TZNAME:CDT
DTSTART:20240310T020000
TZOFFSETFROM:-0600
TZOFFSETTO:-0500
RDATE:20250309T020000
RDATE:20260308T020000
END:DAYLIGHT
END:VTIMEZONE
BEGIN:VEVENT
UID:dd826027-c616-4c9b-871e-093ce00fc44a
DTSTAMP:20260424T064424Z
DESCRIPTION:Email or Call to see what we are studying!
DTSTART;TZID=America/Chicago:20241119T081500
DTEND;TZID=America/Chicago:20241119T094500
LOCATION:9981 W. 190th St.\, Suite i\, Mokena\, IL 60448 US
SUMMARY:Bible Study
END:VEVENT
END:VCALENDAR
