BEGIN:VCALENDAR
VERSION:2.0
PRODID:-//myjoyfulheart.org//NONSGML kigkonsult.se iCalcreator 2.30.10//
CALSCALE:GREGORIAN
METHOD:PUBLISH
UID:3bfb539b-a203-49b0-91ad-6f17469d8a4e
X-WR-CALDESC:Email or Call to see what we are studying!
X-WR-RELCALID:dd1b792ec81f0161b8808f2abf5b6a6a
X-WR-TIMEZONE:America/Chicago
BEGIN:VTIMEZONE
TZID:America/Chicago
BEGIN:STANDARD
TZNAME:CST
DTSTART:20241103T020000
TZOFFSETFROM:-0500
TZOFFSETTO:-0600
RDATE:20251102T020000
END:STANDARD
BEGIN:DAYLIGHT
TZNAME:CDT
DTSTART:20240310T020000
TZOFFSETFROM:-0600
TZOFFSETTO:-0500
RDATE:20250309T020000
RDATE:20260308T020000
END:DAYLIGHT
END:VTIMEZONE
BEGIN:VEVENT
UID:881eb4a1-2eda-49e7-9b42-5a9902e1b344
DTSTAMP:20260424T064652Z
DESCRIPTION:Email or Call to see what we are studying!
DTSTART;TZID=America/Chicago:20241112T081500
DTEND;TZID=America/Chicago:20241112T094500
LOCATION:9981 W. 190th St.\, Suite i\, Mokena\, IL 60448 US
SUMMARY:Bible Study
END:VEVENT
END:VCALENDAR
