BEGIN:VCALENDAR
VERSION:2.0
PRODID:-//myjoyfulheart.org//NONSGML kigkonsult.se iCalcreator 2.30.10//
CALSCALE:GREGORIAN
METHOD:PUBLISH
UID:742fda01-d353-423b-be15-c3114650fe51
X-WR-CALDESC:
X-WR-RELCALID:da6b9166307ecb5ab7e84a290013c8c9
X-WR-TIMEZONE:America/Chicago
BEGIN:VTIMEZONE
TZID:America/Chicago
BEGIN:STANDARD
TZNAME:CST
DTSTART:20241103T020000
TZOFFSETFROM:-0500
TZOFFSETTO:-0600
RDATE:20251102T020000
END:STANDARD
BEGIN:DAYLIGHT
TZNAME:CDT
DTSTART:20240310T020000
TZOFFSETFROM:-0600
TZOFFSETTO:-0500
RDATE:20250309T020000
RDATE:20260308T020000
END:DAYLIGHT
END:VTIMEZONE
BEGIN:VEVENT
UID:162074aa-f3b1-40e3-ae39-73a53abb5ac3
DTSTAMP:20260424T070336Z
DESCRIPTION:
DTSTART;TZID=America/Chicago:20241109T093000
DTEND;TZID=America/Chicago:20241109T130000
LOCATION:9981 W. 190th St.\, Suite J\, Mokena\, IL 60448 US
SUMMARY:Boutique Saturday Hours
END:VEVENT
END:VCALENDAR
