BEGIN:VCALENDAR
VERSION:2.0
PRODID:-//myjoyfulheart.org//NONSGML kigkonsult.se iCalcreator 2.30.10//
CALSCALE:GREGORIAN
METHOD:PUBLISH
UID:d8c1c4c5-c13d-4627-8062-cfe6b2d826fa
X-WR-CALDESC:Email or Call to see what we are studying!
X-WR-RELCALID:51fd4619054a8e5a7ec23e9908fdb2be
X-WR-TIMEZONE:America/Chicago
BEGIN:VTIMEZONE
TZID:America/Chicago
BEGIN:STANDARD
TZNAME:CST
DTSTART:20231105T020000
TZOFFSETFROM:-0500
TZOFFSETTO:-0600
RDATE:20241103T020000
RDATE:20251102T020000
END:STANDARD
BEGIN:DAYLIGHT
TZNAME:CDT
DTSTART:20240310T020000
TZOFFSETFROM:-0600
TZOFFSETTO:-0500
RDATE:20250309T020000
RDATE:20260308T020000
END:DAYLIGHT
END:VTIMEZONE
BEGIN:VEVENT
UID:c9333176-ce2a-4061-9a81-4dbd1ec3ca17
DTSTAMP:20260424T081340Z
DESCRIPTION:Email or Call to see what we are studying!
DTSTART;TZID=America/Chicago:20241029T081500
DTEND;TZID=America/Chicago:20241029T094500
LOCATION:9981 W. 190th St.\, Suite i\, Mokena\, IL 60448 US
SUMMARY:Bible Study
END:VEVENT
END:VCALENDAR
