BEGIN:VCALENDAR
VERSION:2.0
PRODID:-//myjoyfulheart.org//NONSGML kigkonsult.se iCalcreator 2.30.10//
CALSCALE:GREGORIAN
METHOD:PUBLISH
UID:66529fc8-6eb5-4a35-ac2c-36ef42330cf9
X-WR-CALDESC:
X-WR-RELCALID:733e05a936ea2746203f6a28966ea9e0
X-WR-TIMEZONE:America/Chicago
BEGIN:VTIMEZONE
TZID:America/Chicago
BEGIN:STANDARD
TZNAME:CST
DTSTART:20231105T020000
TZOFFSETFROM:-0500
TZOFFSETTO:-0600
RDATE:20241103T020000
RDATE:20251102T020000
END:STANDARD
BEGIN:DAYLIGHT
TZNAME:CDT
DTSTART:20240310T020000
TZOFFSETFROM:-0600
TZOFFSETTO:-0500
RDATE:20250309T020000
RDATE:20260308T020000
END:DAYLIGHT
END:VTIMEZONE
BEGIN:VEVENT
UID:1e7b36c7-46e2-48e3-bbe7-2db2872a35f3
DTSTAMP:20260424T081135Z
DESCRIPTION:
DTSTART;TZID=America/Chicago:20241018T180000
DTEND;TZID=America/Chicago:20241018T210000
LOCATION:15052 Archer Ave\, Lockport\, IL 60441 US
SUMMARY:Bunco Fundraiser
END:VEVENT
END:VCALENDAR
