BEGIN:VCALENDAR
VERSION:2.0
PRODID:-//myjoyfulheart.org//NONSGML kigkonsult.se iCalcreator 2.30.10//
CALSCALE:GREGORIAN
METHOD:PUBLISH
UID:044d07fe-c457-4fc0-8211-83c364bd41a1
X-WR-CALDESC:
X-WR-RELCALID:58d4c77783c569d46c738301aed404a9
X-WR-TIMEZONE:America/Chicago
BEGIN:VTIMEZONE
TZID:America/Chicago
BEGIN:STANDARD
TZNAME:CST
DTSTART:20231105T020000
TZOFFSETFROM:-0500
TZOFFSETTO:-0600
RDATE:20241103T020000
RDATE:20251102T020000
END:STANDARD
BEGIN:DAYLIGHT
TZNAME:CDT
DTSTART:20240310T020000
TZOFFSETFROM:-0600
TZOFFSETTO:-0500
RDATE:20250309T020000
RDATE:20260308T020000
END:DAYLIGHT
END:VTIMEZONE
BEGIN:VEVENT
UID:a746e24b-95f2-4565-9127-ab8ae525af45
DTSTAMP:20260424T082932Z
DESCRIPTION:
DTSTART;TZID=America/Chicago:20241005T093000
DTEND;TZID=America/Chicago:20241005T130000
LOCATION:9981 W. 190th St.\, Suite J\, Mokena\, IL 60448 US
SUMMARY:Boutique Saturday Hours
END:VEVENT
END:VCALENDAR
