BEGIN:VCALENDAR
VERSION:2.0
PRODID:-//myjoyfulheart.org//NONSGML kigkonsult.se iCalcreator 2.30.10//
CALSCALE:GREGORIAN
METHOD:PUBLISH
UID:193ae3e5-0c9a-446e-8c36-db82744fe47c
X-WR-CALDESC:Email or Call to see what we are studying!
X-WR-RELCALID:a94ef1b26270b14b72faf890c9c284d9
X-WR-TIMEZONE:America/Chicago
BEGIN:VTIMEZONE
TZID:America/Chicago
BEGIN:STANDARD
TZNAME:CST
DTSTART:20231105T020000
TZOFFSETFROM:-0500
TZOFFSETTO:-0600
RDATE:20241103T020000
RDATE:20251102T020000
END:STANDARD
BEGIN:DAYLIGHT
TZNAME:CDT
DTSTART:20240310T020000
TZOFFSETFROM:-0600
TZOFFSETTO:-0500
RDATE:20250309T020000
RDATE:20260308T020000
END:DAYLIGHT
END:VTIMEZONE
BEGIN:VEVENT
UID:a709fd63-7c62-40dd-8944-8b7b2e6bebb8
DTSTAMP:20260424T081216Z
DESCRIPTION:Email or Call to see what we are studying!
DTSTART;TZID=America/Chicago:20241001T081500
DTEND;TZID=America/Chicago:20241001T094500
LOCATION:9981 W. 190th St.\, Suite i\, Mokena\, IL 60448 US
SUMMARY:Bible Study
END:VEVENT
END:VCALENDAR
