BEGIN:VCALENDAR
VERSION:2.0
PRODID:-//myjoyfulheart.org//NONSGML kigkonsult.se iCalcreator 2.30.10//
CALSCALE:GREGORIAN
METHOD:PUBLISH
UID:1cb8e3a0-9e33-4734-9bc4-80d4ba1f79da
X-WR-CALDESC:Email or Call to see what we are studying!
X-WR-RELCALID:742f5fa372898cf6933ef3f6cc32e8fa
X-WR-TIMEZONE:America/Chicago
BEGIN:VTIMEZONE
TZID:America/Chicago
BEGIN:STANDARD
TZNAME:CST
DTSTART:20231105T020000
TZOFFSETFROM:-0500
TZOFFSETTO:-0600
RDATE:20241103T020000
RDATE:20251102T020000
END:STANDARD
BEGIN:DAYLIGHT
TZNAME:CDT
DTSTART:20240310T020000
TZOFFSETFROM:-0600
TZOFFSETTO:-0500
RDATE:20250309T020000
RDATE:20260308T020000
END:DAYLIGHT
END:VTIMEZONE
BEGIN:VEVENT
UID:e1a0586c-8958-420f-8acd-33577b73fd51
DTSTAMP:20260424T095135Z
DESCRIPTION:Email or Call to see what we are studying!
DTSTART;TZID=America/Chicago:20240924T081500
DTEND;TZID=America/Chicago:20240924T094500
LOCATION:9981 W. 190th St.\, Suite i\, Mokena\, IL 60448 US
SUMMARY:Bible Study
END:VEVENT
END:VCALENDAR
