BEGIN:VCALENDAR
VERSION:2.0
PRODID:-//myjoyfulheart.org//NONSGML kigkonsult.se iCalcreator 2.30.10//
CALSCALE:GREGORIAN
METHOD:PUBLISH
UID:33ca7954-5e91-4855-a735-c955c2421ac1
X-WR-CALDESC:Strong teens needed to help load up a truck at our warehouse. 
  Must pre-register.
X-WR-RELCALID:0ccb75f518ffeb37c13c386aba0cb4e3
X-WR-TIMEZONE:America/Chicago
BEGIN:VTIMEZONE
TZID:America/Chicago
BEGIN:STANDARD
TZNAME:CST
DTSTART:20231105T020000
TZOFFSETFROM:-0500
TZOFFSETTO:-0600
RDATE:20241103T020000
RDATE:20251102T020000
END:STANDARD
BEGIN:DAYLIGHT
TZNAME:CDT
DTSTART:20240310T020000
TZOFFSETFROM:-0600
TZOFFSETTO:-0500
RDATE:20250309T020000
RDATE:20260308T020000
END:DAYLIGHT
END:VTIMEZONE
BEGIN:VEVENT
UID:8a047daa-7870-40fe-85c2-924451eb8ccc
DTSTAMP:20260424T100212Z
DESCRIPTION:Strong teens needed to help load up a truck at our warehouse.  
 Must pre-register.
DTSTART;TZID=America/Chicago:20240907T083000
DTEND;TZID=America/Chicago:20240907T093000
LOCATION:9981 W. 190th St.\, Suite i\, Mokena\, IL 60448 US
SUMMARY:Saturday Serve Hours (by registration only)
END:VEVENT
END:VCALENDAR
