BEGIN:VCALENDAR
VERSION:2.0
PRODID:-//myjoyfulheart.org//NONSGML kigkonsult.se iCalcreator 2.30.10//
CALSCALE:GREGORIAN
METHOD:PUBLISH
UID:1e861870-7fae-4aa4-972a-4d74cc49f074
X-WR-CALDESC:Come shop for the holidays!  \n\nEvery $10 spent will create a
  mini-hygiene kit\, every $15 spent will create a full-size hygiene kit fo
 r a child enrolled in the program!
X-WR-RELCALID:9b5c0d9ae0dbe83b23406aec1daf97aa
X-WR-TIMEZONE:America/Chicago
BEGIN:VTIMEZONE
TZID:America/Chicago
BEGIN:STANDARD
TZNAME:CST
DTSTART:20231105T020000
TZOFFSETFROM:-0500
TZOFFSETTO:-0600
RDATE:20241103T020000
RDATE:20251102T020000
END:STANDARD
BEGIN:DAYLIGHT
TZNAME:CDT
DTSTART:20240310T020000
TZOFFSETFROM:-0600
TZOFFSETTO:-0500
RDATE:20250309T020000
RDATE:20260308T020000
END:DAYLIGHT
END:VTIMEZONE
BEGIN:VEVENT
UID:eb74e1e3-af31-484f-af09-6d5dd98f0fb9
DTSTAMP:20260424T095008Z
DESCRIPTION:Come shop for the holidays!  \n\nEvery $10 spent will create a 
 mini-hygiene kit\, every $15 spent will create a full-size hygiene kit for
  a child enrolled in the program!
DTSTART;TZID=America/Chicago:20240907T090000
DTEND;TZID=America/Chicago:20240907T130000
LOCATION:9981 W. 190th St.\, Suite J\, Mokena\, IL 60448 US
SUMMARY:Boutique Saturday Hours
END:VEVENT
END:VCALENDAR
