BEGIN:VCALENDAR
VERSION:2.0
PRODID:-//myjoyfulheart.org//NONSGML kigkonsult.se iCalcreator 2.30.10//
CALSCALE:GREGORIAN
METHOD:PUBLISH
UID:ba8f8c47-1fcd-4e85-903d-823393ec8d50
X-WR-CALDESC:
X-WR-RELCALID:c9ceb379899ad66ee10ed122065e09b1
X-WR-TIMEZONE:America/Chicago
BEGIN:VTIMEZONE
TZID:America/Chicago
BEGIN:STANDARD
TZNAME:CST
DTSTART:20231105T020000
TZOFFSETFROM:-0500
TZOFFSETTO:-0600
RDATE:20241103T020000
RDATE:20251102T020000
END:STANDARD
BEGIN:DAYLIGHT
TZNAME:CDT
DTSTART:20240310T020000
TZOFFSETFROM:-0600
TZOFFSETTO:-0500
RDATE:20250309T020000
END:DAYLIGHT
END:VTIMEZONE
BEGIN:VEVENT
UID:083a4208-f2ee-4753-a493-265ce673e986
DTSTAMP:20260424T110919Z
DESCRIPTION:
DTSTART;TZID=America/Chicago:20240829T050000
DTEND;TZID=America/Chicago:20240902T050001
LOCATION:
SUMMARY:Office & Boutique Closed
END:VEVENT
END:VCALENDAR
