BEGIN:VCALENDAR
VERSION:2.0
PRODID:-//myjoyfulheart.org//NONSGML kigkonsult.se iCalcreator 2.30.10//
CALSCALE:GREGORIAN
METHOD:PUBLISH
UID:7006fa85-f80d-46a2-afdf-2e690e01e758
X-WR-CALDESC:Email or Call to see what we are studying!
X-WR-RELCALID:36ead8a3c87ba08174389e95dde52564
X-WR-TIMEZONE:America/Chicago
BEGIN:VTIMEZONE
TZID:America/Chicago
BEGIN:STANDARD
TZNAME:CST
DTSTART:20231105T020000
TZOFFSETFROM:-0500
TZOFFSETTO:-0600
RDATE:20241103T020000
RDATE:20251102T020000
END:STANDARD
BEGIN:DAYLIGHT
TZNAME:CDT
DTSTART:20240310T020000
TZOFFSETFROM:-0600
TZOFFSETTO:-0500
RDATE:20250309T020000
END:DAYLIGHT
END:VTIMEZONE
BEGIN:VEVENT
UID:f9cb8af1-d576-42db-aae4-2ff520d53eca
DTSTAMP:20260424T110932Z
DESCRIPTION:Email or Call to see what we are studying!
DTSTART;TZID=America/Chicago:20240820T081500
DTEND;TZID=America/Chicago:20240820T094500
LOCATION:9981 W. 190th St.\, Suite i\, Mokena\, IL 60448 US
SUMMARY:Bible Study
END:VEVENT
END:VCALENDAR
