BEGIN:VCALENDAR
VERSION:2.0
PRODID:-//myjoyfulheart.org//NONSGML kigkonsult.se iCalcreator 2.30.10//
CALSCALE:GREGORIAN
METHOD:PUBLISH
UID:c4403c99-d10b-4738-9936-ab885115d82f
X-WR-CALDESC:
X-WR-RELCALID:bb13ed388852f8b2a0865e89f438c0c5
X-WR-TIMEZONE:America/Chicago
BEGIN:VTIMEZONE
TZID:America/Chicago
BEGIN:STANDARD
TZNAME:CST
DTSTART:20231105T020000
TZOFFSETFROM:-0500
TZOFFSETTO:-0600
RDATE:20241103T020000
RDATE:20251102T020000
END:STANDARD
BEGIN:DAYLIGHT
TZNAME:CDT
DTSTART:20240310T020000
TZOFFSETFROM:-0600
TZOFFSETTO:-0500
RDATE:20250309T020000
END:DAYLIGHT
END:VTIMEZONE
BEGIN:VEVENT
UID:a5897497-0ed3-4a5b-806f-bb322d99cc12
DTSTAMP:20260424T122829Z
DESCRIPTION:
DTSTART;TZID=America/Chicago:20240725T050000
DTEND;TZID=America/Chicago:20240725T050001
LOCATION:
SUMMARY:Office & Boutique Closed
END:VEVENT
END:VCALENDAR
