BEGIN:VCALENDAR
VERSION:2.0
PRODID:-//myjoyfulheart.org//NONSGML kigkonsult.se iCalcreator 2.30.10//
CALSCALE:GREGORIAN
METHOD:PUBLISH
UID:ed054c22-0e3b-47af-9a40-827ddc1b3305
X-WR-CALDESC:
X-WR-RELCALID:f5944889ab4152f47aba5ea42678fe97
X-WR-TIMEZONE:America/Chicago
BEGIN:VTIMEZONE
TZID:America/Chicago
BEGIN:STANDARD
TZNAME:CST
DTSTART:20231105T020000
TZOFFSETFROM:-0500
TZOFFSETTO:-0600
RDATE:20241103T020000
RDATE:20251102T020000
END:STANDARD
BEGIN:DAYLIGHT
TZNAME:CDT
DTSTART:20240310T020000
TZOFFSETFROM:-0600
TZOFFSETTO:-0500
RDATE:20250309T020000
END:DAYLIGHT
END:VTIMEZONE
BEGIN:VEVENT
UID:5e709874-0e9a-4dc3-baed-03c6e4d81a48
DTSTAMP:20260424T124836Z
DESCRIPTION:
DTSTART;TZID=America/Chicago:20240708T050000
DTEND;TZID=America/Chicago:20240708T050001
LOCATION:9981 W. 190th St.\, Suite i\, Mokena\, IL 60448 US
SUMMARY:Office & Boutique Closed
END:VEVENT
END:VCALENDAR
