BEGIN:VCALENDAR
VERSION:2.0
PRODID:-//myjoyfulheart.org//NONSGML kigkonsult.se iCalcreator 2.30.10//
CALSCALE:GREGORIAN
METHOD:PUBLISH
UID:ae220098-c0a3-4507-a967-d34b09ad093c
X-WR-CALDESC:
X-WR-RELCALID:704d7148518346d8d45950708b6ba8ee
X-WR-TIMEZONE:America/Chicago
BEGIN:VTIMEZONE
TZID:America/Chicago
BEGIN:STANDARD
TZNAME:CST
DTSTART:20231105T020000
TZOFFSETFROM:-0500
TZOFFSETTO:-0600
RDATE:20241103T020000
RDATE:20251102T020000
END:STANDARD
BEGIN:DAYLIGHT
TZNAME:CDT
DTSTART:20240310T020000
TZOFFSETFROM:-0600
TZOFFSETTO:-0500
RDATE:20250309T020000
END:DAYLIGHT
END:VTIMEZONE
BEGIN:VEVENT
UID:c0a20513-e9c1-4b36-8fbd-45544401e6aa
DTSTAMP:20260424T123859Z
DESCRIPTION:
DTSTART;TZID=America/Chicago:20240705T050000
DTEND;TZID=America/Chicago:20240705T050001
LOCATION:
SUMMARY:Office & Boutique Closed
END:VEVENT
END:VCALENDAR
