BEGIN:VCALENDAR
VERSION:2.0
PRODID:-//myjoyfulheart.org//NONSGML kigkonsult.se iCalcreator 2.30.10//
CALSCALE:GREGORIAN
METHOD:PUBLISH
UID:a5b68ba3-ff39-43c4-9695-1a48a06c7228
X-WR-CALDESC:
X-WR-RELCALID:3ed2585423f69eb552b2a1c9000cab88
X-WR-TIMEZONE:America/Chicago
BEGIN:VTIMEZONE
TZID:America/Chicago
BEGIN:STANDARD
TZNAME:CST
DTSTART:20231105T020000
TZOFFSETFROM:-0500
TZOFFSETTO:-0600
RDATE:20241103T020000
RDATE:20251102T020000
END:STANDARD
BEGIN:DAYLIGHT
TZNAME:CDT
DTSTART:20240310T020000
TZOFFSETFROM:-0600
TZOFFSETTO:-0500
RDATE:20250309T020000
END:DAYLIGHT
END:VTIMEZONE
BEGIN:VEVENT
UID:734fd659-762f-4953-b6bf-04f4787975b5
DTSTAMP:20260424T140718Z
DESCRIPTION:
DTSTART;TZID=America/Chicago:20240624T050000
DTEND;TZID=America/Chicago:20240628T050001
LOCATION:9981 W. 190th Street\, Suite I-J\, Mokena\, IL 60448 US
SUMMARY:Office & Boutique Closed
END:VEVENT
END:VCALENDAR
