BEGIN:VCALENDAR
VERSION:2.0
PRODID:-//myjoyfulheart.org//NONSGML kigkonsult.se iCalcreator 2.30.10//
CALSCALE:GREGORIAN
METHOD:PUBLISH
UID:c7d415bf-26a7-4405-a6cd-6ce6fe47aad9
X-WR-CALDESC:
X-WR-RELCALID:d3b51f1c3976b60334553644a2766a28
X-WR-TIMEZONE:America/Chicago
BEGIN:VTIMEZONE
TZID:America/Chicago
BEGIN:STANDARD
TZNAME:CST
DTSTART:20231105T020000
TZOFFSETFROM:-0500
TZOFFSETTO:-0600
RDATE:20241103T020000
RDATE:20251102T020000
END:STANDARD
BEGIN:DAYLIGHT
TZNAME:CDT
DTSTART:20240310T020000
TZOFFSETFROM:-0600
TZOFFSETTO:-0500
RDATE:20250309T020000
END:DAYLIGHT
END:VTIMEZONE
BEGIN:VEVENT
UID:4ba834fe-17ec-4470-9627-79c98bb8c28c
DTSTAMP:20260424T140808Z
DESCRIPTION:
DTSTART;TZID=America/Chicago:20240622T093000
DTEND;TZID=America/Chicago:20240622T130000
LOCATION:9981 W. 190th St.\, Suite J\, Mokena\, IL 60448 US
SUMMARY:Boutique Saturday Hours
END:VEVENT
END:VCALENDAR
