BEGIN:VCALENDAR
VERSION:2.0
PRODID:-//myjoyfulheart.org//NONSGML kigkonsult.se iCalcreator 2.30.10//
CALSCALE:GREGORIAN
METHOD:PUBLISH
UID:8a0e7aed-1515-40b4-88db-deedd0111571
X-WR-CALDESC:
X-WR-RELCALID:0d86c20b68f76c806b95c4bf44922b4f
X-WR-TIMEZONE:America/Chicago
BEGIN:VTIMEZONE
TZID:America/Chicago
BEGIN:STANDARD
TZNAME:CST
DTSTART:20231105T020000
TZOFFSETFROM:-0500
TZOFFSETTO:-0600
RDATE:20241103T020000
RDATE:20251102T020000
END:STANDARD
BEGIN:DAYLIGHT
TZNAME:CDT
DTSTART:20240310T020000
TZOFFSETFROM:-0600
TZOFFSETTO:-0500
RDATE:20250309T020000
END:DAYLIGHT
END:VTIMEZONE
BEGIN:VEVENT
UID:70070758-de4a-42f6-930a-c903afc40aba
DTSTAMP:20260424T153710Z
DESCRIPTION:
DTSTART;TZID=America/Chicago:20240529T093000
DTEND;TZID=America/Chicago:20240529T133000
LOCATION:9981 W. 190th St.\, Suite i\, Mokena\, IL 60448 US
SUMMARY:Volunteer Day
END:VEVENT
END:VCALENDAR
