BEGIN:VCALENDAR
VERSION:2.0
PRODID:-//myjoyfulheart.org//NONSGML kigkonsult.se iCalcreator 2.30.10//
CALSCALE:GREGORIAN
METHOD:PUBLISH
UID:698cd48a-f1b6-400d-84dd-54942b7d2ac7
X-WR-CALDESC:
X-WR-RELCALID:9be904046de476436613cc7f8b2a997c
X-WR-TIMEZONE:America/Chicago
BEGIN:VTIMEZONE
TZID:America/Chicago
BEGIN:STANDARD
TZNAME:CST
DTSTART:20231105T020000
TZOFFSETFROM:-0500
TZOFFSETTO:-0600
RDATE:20241103T020000
END:STANDARD
BEGIN:DAYLIGHT
TZNAME:CDT
DTSTART:20240310T020000
TZOFFSETFROM:-0600
TZOFFSETTO:-0500
RDATE:20250309T020000
END:DAYLIGHT
END:VTIMEZONE
BEGIN:VEVENT
UID:14c52b3c-1bcf-4981-ac1c-2187803e1b31
DTSTAMP:20260424T172531Z
DESCRIPTION:
DTSTART;TZID=America/Chicago:20240420T093000
DTEND;TZID=America/Chicago:20240420T130000
LOCATION:9981 W. 190th St.\, Suite J\, Mokena\, IL 60448 US
SUMMARY:Boutique Sat. Hours
END:VEVENT
END:VCALENDAR
