BEGIN:VCALENDAR
VERSION:2.0
PRODID:-//myjoyfulheart.org//NONSGML kigkonsult.se iCalcreator 2.30.10//
CALSCALE:GREGORIAN
METHOD:PUBLISH
UID:24c17711-d2eb-4599-b8f8-0c79bba8bf7b
X-WR-CALDESC:
X-WR-RELCALID:f290a5ba9dd110a3c293bc267ec005c0
X-WR-TIMEZONE:America/Chicago
BEGIN:VTIMEZONE
TZID:America/Chicago
BEGIN:STANDARD
TZNAME:CST
DTSTART:20231105T020000
TZOFFSETFROM:-0500
TZOFFSETTO:-0600
RDATE:20241103T020000
END:STANDARD
BEGIN:DAYLIGHT
TZNAME:CDT
DTSTART:20240310T020000
TZOFFSETFROM:-0600
TZOFFSETTO:-0500
RDATE:20250309T020000
END:DAYLIGHT
END:VTIMEZONE
BEGIN:VEVENT
UID:88fe160f-ad48-4e57-b5f9-1ac2a263cc47
DTSTAMP:20260424T174842Z
DESCRIPTION:
DTSTART;TZID=America/Chicago:20240416T093000
DTEND;TZID=America/Chicago:20240416T133000
LOCATION:9981 W. 190th St.\, Suite i\, Mokena\, IL 60448 US
SUMMARY:Volunteer Day
END:VEVENT
END:VCALENDAR
