BEGIN:VCALENDAR
VERSION:2.0
PRODID:-//myjoyfulheart.org//NONSGML kigkonsult.se iCalcreator 2.30.10//
CALSCALE:GREGORIAN
METHOD:PUBLISH
UID:590329b2-ed60-4a2f-88a0-ee07bc5d677f
X-WR-CALDESC:
X-WR-RELCALID:c8d79ff99f2db9a15e219f5ad7a13921
X-WR-TIMEZONE:America/Chicago
BEGIN:VTIMEZONE
TZID:America/Chicago
BEGIN:STANDARD
TZNAME:CST
DTSTART:20231105T020000
TZOFFSETFROM:-0500
TZOFFSETTO:-0600
RDATE:20241103T020000
END:STANDARD
BEGIN:DAYLIGHT
TZNAME:CDT
DTSTART:20240310T020000
TZOFFSETFROM:-0600
TZOFFSETTO:-0500
RDATE:20250309T020000
END:DAYLIGHT
END:VTIMEZONE
BEGIN:VEVENT
UID:13493e67-4a79-4b8e-9bc1-716e39223a6f
DTSTAMP:20260424T172700Z
DESCRIPTION:
DTSTART;TZID=America/Chicago:20240401T050000
DTEND;TZID=America/Chicago:20240401T050001
LOCATION:9981 W. 190th St.\, Suite i\, Mokena\, IL 60448 US
SUMMARY:Closed for Easter Monday
END:VEVENT
END:VCALENDAR
