BEGIN:VCALENDAR
VERSION:2.0
PRODID:-//myjoyfulheart.org//NONSGML kigkonsult.se iCalcreator 2.30.10//
CALSCALE:GREGORIAN
METHOD:PUBLISH
UID:45d606c5-68b0-4917-9d14-5558a2e9a2d2
X-WR-CALDESC:
X-WR-RELCALID:d979b8f0086c6bfbcc4734fd7533dfa3
X-WR-TIMEZONE:America/Chicago
BEGIN:VTIMEZONE
TZID:America/Chicago
BEGIN:STANDARD
TZNAME:CST
DTSTART:20231105T020000
TZOFFSETFROM:-0500
TZOFFSETTO:-0600
RDATE:20241103T020000
END:STANDARD
BEGIN:DAYLIGHT
TZNAME:CDT
DTSTART:20240310T020000
TZOFFSETFROM:-0600
TZOFFSETTO:-0500
RDATE:20250309T020000
END:DAYLIGHT
END:VTIMEZONE
BEGIN:VEVENT
UID:762c0db9-0e7c-4145-8c6a-246c70235963
DTSTAMP:20260424T190839Z
DESCRIPTION:
DTSTART;TZID=America/Chicago:20240316T093000
DTEND;TZID=America/Chicago:20240316T130000
LOCATION:9981 W. 190th St.\, Suite J\, Mokena\, IL 60448 US
SUMMARY:SATURDAY BOUTIQUE HORS
END:VEVENT
END:VCALENDAR
