BEGIN:VCALENDAR
VERSION:2.0
PRODID:-//myjoyfulheart.org//NONSGML kigkonsult.se iCalcreator 2.30.10//
CALSCALE:GREGORIAN
METHOD:PUBLISH
UID:f5fc4152-6320-4236-9ef8-9f07dd901ac9
X-WR-CALDESC:Email or Call to see what we are studying!
X-WR-RELCALID:3cd3178b646a3db740c61c4e4127fc4e
X-WR-TIMEZONE:America/Chicago
BEGIN:VTIMEZONE
TZID:America/Chicago
BEGIN:STANDARD
TZNAME:CST
DTSTART:20231105T020000
TZOFFSETFROM:-0500
TZOFFSETTO:-0600
RDATE:20241103T020000
END:STANDARD
BEGIN:DAYLIGHT
TZNAME:CDT
DTSTART:20230312T020000
TZOFFSETFROM:-0600
TZOFFSETTO:-0500
RDATE:20240310T020000
RDATE:20250309T020000
END:DAYLIGHT
END:VTIMEZONE
BEGIN:VEVENT
UID:db836e65-d9ac-44b4-83b1-1207d1bb17a8
DTSTAMP:20260424T205103Z
DESCRIPTION:Email or Call to see what we are studying!
DTSTART;TZID=America/Chicago:20240206T083000
DTEND;TZID=America/Chicago:20240206T100000
LOCATION:9981 W. 190th St.\, Suite i\, Mokena\, IL 60448 US
SUMMARY:Bible Study
END:VEVENT
END:VCALENDAR
