BEGIN:VCALENDAR
VERSION:2.0
PRODID:-//myjoyfulheart.org//NONSGML kigkonsult.se iCalcreator 2.30.10//
CALSCALE:GREGORIAN
METHOD:PUBLISH
UID:b4f150ad-c69f-4ec4-b0fe-c39b9ca12034
X-WR-CALDESC:Email or Call to see what we are studying!
X-WR-RELCALID:396463a7f067c23c8d1f98ee6ed41252
X-WR-TIMEZONE:America/Chicago
BEGIN:VTIMEZONE
TZID:America/Chicago
BEGIN:STANDARD
TZNAME:CST
DTSTART:20231105T020000
TZOFFSETFROM:-0500
TZOFFSETTO:-0600
RDATE:20241103T020000
END:STANDARD
BEGIN:DAYLIGHT
TZNAME:CDT
DTSTART:20230312T020000
TZOFFSETFROM:-0600
TZOFFSETTO:-0500
RDATE:20240310T020000
RDATE:20250309T020000
END:DAYLIGHT
END:VTIMEZONE
BEGIN:VEVENT
UID:477aced6-a771-4ba7-9532-5c782085761c
DTSTAMP:20260424T223332Z
DESCRIPTION:Email or Call to see what we are studying!
DTSTART;TZID=America/Chicago:20240123T083000
DTEND;TZID=America/Chicago:20240123T100000
LOCATION:9981 W. 190th St.\, Suite i\, Mokena\, IL 60448 US
SUMMARY:Bible Study
END:VEVENT
END:VCALENDAR
