BEGIN:VCALENDAR
VERSION:2.0
PRODID:-//myjoyfulheart.org//NONSGML kigkonsult.se iCalcreator 2.30.10//
CALSCALE:GREGORIAN
METHOD:PUBLISH
UID:64dfbd37-9d7f-4087-a46d-b64ac3c95ab8
X-WR-CALDESC:
X-WR-RELCALID:3d35802f1806bff0f927627fbf101bae
X-WR-TIMEZONE:America/Chicago
BEGIN:VTIMEZONE
TZID:America/Chicago
BEGIN:STANDARD
TZNAME:CST
DTSTART:20231105T020000
TZOFFSETFROM:-0500
TZOFFSETTO:-0600
RDATE:20241103T020000
END:STANDARD
BEGIN:DAYLIGHT
TZNAME:CDT
DTSTART:20230312T020000
TZOFFSETFROM:-0600
TZOFFSETTO:-0500
RDATE:20240310T020000
RDATE:20250309T020000
END:DAYLIGHT
END:VTIMEZONE
BEGIN:VEVENT
UID:f1429719-cca7-4000-8da2-ed8b5e159c91
DTSTAMP:20260424T224359Z
DESCRIPTION:
DTSTART;TZID=America/Chicago:20240117T093000
DTEND;TZID=America/Chicago:20240117T113000
LOCATION:9981 W. 190th St.\, Suite i\, Mokena\, IL 60448 US
SUMMARY:Limited Volunteer Day
END:VEVENT
END:VCALENDAR
