BEGIN:VCALENDAR
VERSION:2.0
PRODID:-//myjoyfulheart.org//NONSGML kigkonsult.se iCalcreator 2.30.10//
CALSCALE:GREGORIAN
METHOD:PUBLISH
UID:37fb9718-69a5-47cb-872f-13e6645b3e23
X-WR-CALDESC:
X-WR-RELCALID:fcaadbb55cc528704a816a22a3b67b7c
X-WR-TIMEZONE:America/Chicago
BEGIN:VTIMEZONE
TZID:America/Chicago
BEGIN:STANDARD
TZNAME:CST
DTSTART:20231105T020000
TZOFFSETFROM:-0500
TZOFFSETTO:-0600
RDATE:20241103T020000
END:STANDARD
BEGIN:DAYLIGHT
TZNAME:CDT
DTSTART:20230312T020000
TZOFFSETFROM:-0600
TZOFFSETTO:-0500
RDATE:20240310T020000
RDATE:20250309T020000
END:DAYLIGHT
END:VTIMEZONE
BEGIN:VEVENT
UID:36a92277-bea7-47c0-ac2b-b04cb6949fce
DTSTAMP:20260424T224323Z
DESCRIPTION:
DTSTART;TZID=America/Chicago:20240117T093000
DTEND;TZID=America/Chicago:20240117T233000
LOCATION:9981 W 190TH ST\, SUITE J\, MOKENA\, IL 60448 US
SUMMARY:LIMITED BOUTIQUE HOURS
END:VEVENT
END:VCALENDAR
