BEGIN:VCALENDAR
VERSION:2.0
PRODID:-//myjoyfulheart.org//NONSGML kigkonsult.se iCalcreator 2.30.10//
CALSCALE:GREGORIAN
METHOD:PUBLISH
UID:bce68c78-4352-406e-8c2e-2acee84491ed
X-WR-CALDESC:Email or Call to see what we are studying!
X-WR-RELCALID:c624273465c6a7c5deb799891b6103e3
X-WR-TIMEZONE:America/Chicago
BEGIN:VTIMEZONE
TZID:America/Chicago
BEGIN:STANDARD
TZNAME:CST
DTSTART:20231105T020000
TZOFFSETFROM:-0500
TZOFFSETTO:-0600
RDATE:20241103T020000
END:STANDARD
BEGIN:DAYLIGHT
TZNAME:CDT
DTSTART:20230312T020000
TZOFFSETFROM:-0600
TZOFFSETTO:-0500
RDATE:20240310T020000
RDATE:20250309T020000
END:DAYLIGHT
END:VTIMEZONE
BEGIN:VEVENT
UID:6786090d-a491-4dcb-9c89-df8fbc167310
DTSTAMP:20260424T223405Z
DESCRIPTION:Email or Call to see what we are studying!
DTSTART;TZID=America/Chicago:20240116T083000
DTEND;TZID=America/Chicago:20240116T100000
LOCATION:9981 W. 190th St.\, Suite i\, Mokena\, IL 60448 US
SUMMARY:Bible Study
END:VEVENT
END:VCALENDAR
