BEGIN:VCALENDAR
VERSION:2.0
PRODID:-//myjoyfulheart.org//NONSGML kigkonsult.se iCalcreator 2.30.10//
CALSCALE:GREGORIAN
METHOD:PUBLISH
UID:49b94015-2901-4a6c-b4e0-feea871dc6a1
X-WR-CALDESC:
X-WR-RELCALID:bacb8473af85331ba43b3db19ed3de74
X-WR-TIMEZONE:America/Chicago
BEGIN:VTIMEZONE
TZID:America/Chicago
BEGIN:STANDARD
TZNAME:CST
DTSTART:20231105T020000
TZOFFSETFROM:-0500
TZOFFSETTO:-0600
RDATE:20241103T020000
END:STANDARD
BEGIN:DAYLIGHT
TZNAME:CDT
DTSTART:20230312T020000
TZOFFSETFROM:-0600
TZOFFSETTO:-0500
RDATE:20240310T020000
RDATE:20250309T020000
END:DAYLIGHT
END:VTIMEZONE
BEGIN:VEVENT
UID:9a51bab4-6607-4dd6-b732-eec283d7d904
DTSTAMP:20260425T002026Z
DESCRIPTION:
DTSTART;TZID=America/Chicago:20231216T090000
DTEND;TZID=America/Chicago:20231216T120000
LOCATION:9981 W 190TH ST\, SUITE J\, MOKENA\, IL 60448 US
SUMMARY:BOUTIQUE WEEKEND HOURS
END:VEVENT
END:VCALENDAR
