BEGIN:VCALENDAR
VERSION:2.0
PRODID:-//myjoyfulheart.org//NONSGML kigkonsult.se iCalcreator 2.30.10//
CALSCALE:GREGORIAN
METHOD:PUBLISH
UID:3c67d56a-4da6-43f7-a55e-5dcbdc18a570
X-WR-CALDESC:
X-WR-RELCALID:338fe5204d9c78b086a354c7e76f68b1
X-WR-TIMEZONE:America/Chicago
BEGIN:VTIMEZONE
TZID:America/Chicago
BEGIN:STANDARD
TZNAME:CST
DTSTART:20231105T020000
TZOFFSETFROM:-0500
TZOFFSETTO:-0600
RDATE:20241103T020000
END:STANDARD
BEGIN:DAYLIGHT
TZNAME:CDT
DTSTART:20230312T020000
TZOFFSETFROM:-0600
TZOFFSETTO:-0500
RDATE:20240310T020000
RDATE:20250309T020000
END:DAYLIGHT
END:VTIMEZONE
BEGIN:VEVENT
UID:03b0cdbc-ff94-4007-acb2-3f9684dbac38
DTSTAMP:20260425T002509Z
DESCRIPTION:
DTSTART;TZID=America/Chicago:20231211T170000
DTEND;TZID=America/Chicago:20231211T200000
LOCATION:9981 W 190TH ST\, SUITE J\, MOKENA\, IL 60448 US
SUMMARY:BOUTIQUE NIGHT HOURS
END:VEVENT
END:VCALENDAR
