BEGIN:VCALENDAR
VERSION:2.0
PRODID:-//myjoyfulheart.org//NONSGML kigkonsult.se iCalcreator 2.30.10//
CALSCALE:GREGORIAN
METHOD:PUBLISH
UID:6c449ac1-35c8-4497-8099-de7f078ded93
X-WR-CALDESC:
X-WR-RELCALID:924854d6a52fc1d3abb26d2561e154ec
X-WR-TIMEZONE:America/Chicago
BEGIN:VTIMEZONE
TZID:America/Chicago
BEGIN:STANDARD
TZNAME:CST
DTSTART:20231105T020000
TZOFFSETFROM:-0500
TZOFFSETTO:-0600
RDATE:20241103T020000
END:STANDARD
BEGIN:DAYLIGHT
TZNAME:CDT
DTSTART:20230312T020000
TZOFFSETFROM:-0600
TZOFFSETTO:-0500
RDATE:20240310T020000
RDATE:20250309T020000
END:DAYLIGHT
END:VTIMEZONE
BEGIN:VEVENT
UID:8677d0a1-51f4-4f41-ab02-f57ee69aade2
DTSTAMP:20260425T002200Z
DESCRIPTION:
DTSTART;TZID=America/Chicago:20231202T090000
DTEND;TZID=America/Chicago:20231202T120000
LOCATION:9981 W 190TH ST\, SUITE J\, MOKENA\, IL 60448 US
SUMMARY:BOUTIQUE HOURS
END:VEVENT
END:VCALENDAR
