BEGIN:VCALENDAR
VERSION:2.0
PRODID:-//myjoyfulheart.org//NONSGML kigkonsult.se iCalcreator 2.30.10//
CALSCALE:GREGORIAN
METHOD:PUBLISH
UID:a769c2e5-36f0-4185-84d3-17e7197ca5ee
X-WR-CALDESC:
X-WR-RELCALID:af1c792df974108c1ac3f768a9a7237d
X-WR-TIMEZONE:America/Chicago
BEGIN:VTIMEZONE
TZID:America/Chicago
BEGIN:STANDARD
TZNAME:CST
DTSTART:20231105T020000
TZOFFSETFROM:-0500
TZOFFSETTO:-0600
RDATE:20241103T020000
END:STANDARD
BEGIN:DAYLIGHT
TZNAME:CDT
DTSTART:20230312T020000
TZOFFSETFROM:-0600
TZOFFSETTO:-0500
RDATE:20240310T020000
RDATE:20250309T020000
END:DAYLIGHT
END:VTIMEZONE
BEGIN:VEVENT
UID:7340e0ad-289e-450e-863e-ef58a126260b
DTSTAMP:20260425T015250Z
DESCRIPTION:
DTSTART;TZID=America/Chicago:20231121T093000
DTEND;TZID=America/Chicago:20231121T133000
LOCATION:9981 W. 190th St.\, Suite i\, Mokena\, IL 60448 US
SUMMARY:Volunteer Day
END:VEVENT
END:VCALENDAR
