BEGIN:VCALENDAR
VERSION:2.0
PRODID:-//myjoyfulheart.org//NONSGML kigkonsult.se iCalcreator 2.30.10//
CALSCALE:GREGORIAN
METHOD:PUBLISH
UID:ea2b9b6f-2021-432c-96be-929981629b92
X-WR-CALDESC:
X-WR-RELCALID:c253928e1d3d20ec30224f0a32ce2ada
X-WR-TIMEZONE:America/Chicago
BEGIN:VTIMEZONE
TZID:America/Chicago
BEGIN:STANDARD
TZNAME:CST
DTSTART:20231105T020000
TZOFFSETFROM:-0500
TZOFFSETTO:-0600
RDATE:20241103T020000
END:STANDARD
BEGIN:DAYLIGHT
TZNAME:CDT
DTSTART:20230312T020000
TZOFFSETFROM:-0600
TZOFFSETTO:-0500
RDATE:20240310T020000
RDATE:20250309T020000
END:DAYLIGHT
END:VTIMEZONE
BEGIN:VEVENT
UID:6cf27594-257c-4f68-a406-aea7920d79c7
DTSTAMP:20260425T015249Z
DESCRIPTION:
DTSTART;TZID=America/Chicago:20231113T180000
DTEND;TZID=America/Chicago:20231113T200000
LOCATION:9981 W 190TH ST\, SUITE J\, MOKENA\, IL 60448 US
SUMMARY:BOUTIQUE NIGHT HOURS
END:VEVENT
END:VCALENDAR
