BEGIN:VCALENDAR
VERSION:2.0
PRODID:-//myjoyfulheart.org//NONSGML kigkonsult.se iCalcreator 2.30.10//
CALSCALE:GREGORIAN
METHOD:PUBLISH
UID:74f892d2-ec43-420a-9273-080bfebc0c64
X-WR-CALDESC:We welcome children ages 7+ who can focus on a single task to 
 help us pack snack bags for our Fall Event.  All children must be accompan
 ied by an adult/guardian.  Please email information@myjoyfulheart.org if y
 ou are interested and to inquire if there are any spots available.
X-WR-RELCALID:1867aab0a1348b3f7e8d02d9e17afce8
X-WR-TIMEZONE:America/Chicago
BEGIN:VTIMEZONE
TZID:America/Chicago
BEGIN:STANDARD
TZNAME:CST
DTSTART:20221106T020000
TZOFFSETFROM:-0500
TZOFFSETTO:-0600
RDATE:20231105T020000
RDATE:20241103T020000
END:STANDARD
BEGIN:DAYLIGHT
TZNAME:CDT
DTSTART:20230312T020000
TZOFFSETFROM:-0600
TZOFFSETTO:-0500
RDATE:20240310T020000
RDATE:20250309T020000
END:DAYLIGHT
END:VTIMEZONE
BEGIN:VEVENT
UID:aa6e32f0-7662-4618-afa2-c265701f0b39
DTSTAMP:20260425T033238Z
DESCRIPTION:We welcome children ages 7+ who can focus on a single task to h
 elp us pack snack bags for our Fall Event.  All children must be accompani
 ed by an adult/guardian.  Please email information@myjoyfulheart.org if yo
 u are interested and to inquire if there are any spots available.
DTSTART;TZID=America/Chicago:20231009T103000
DTEND;TZID=America/Chicago:20231009T120000
LOCATION:
SUMMARY:Family Serve Day
END:VEVENT
END:VCALENDAR
