BEGIN:VCALENDAR
VERSION:2.0
PRODID:-//myjoyfulheart.org//NONSGML kigkonsult.se iCalcreator 2.30.10//
CALSCALE:GREGORIAN
METHOD:PUBLISH
UID:76c61729-510a-43fd-8a61-a55c262fcd3a
X-WR-CALDESC:
X-WR-RELCALID:062a718e489db746c6d0a111446b52a1
X-WR-TIMEZONE:America/Chicago
BEGIN:VTIMEZONE
TZID:America/Chicago
BEGIN:STANDARD
TZNAME:CST
DTSTART:20221106T020000
TZOFFSETFROM:-0500
TZOFFSETTO:-0600
RDATE:20231105T020000
RDATE:20241103T020000
END:STANDARD
BEGIN:DAYLIGHT
TZNAME:CDT
DTSTART:20230312T020000
TZOFFSETFROM:-0600
TZOFFSETTO:-0500
RDATE:20240310T020000
END:DAYLIGHT
END:VTIMEZONE
BEGIN:VEVENT
UID:c69535eb-36f7-47a3-8a87-0304b48e6b86
DTSTAMP:20260425T113919Z
DESCRIPTION:
DTSTART;TZID=America/Chicago:20230519T093000
DTEND;TZID=America/Chicago:20230519T133000
LOCATION:
SUMMARY:Volunteer Day
END:VEVENT
END:VCALENDAR
