BEGIN:VCALENDAR
VERSION:2.0
PRODID:-//myjoyfulheart.org//NONSGML kigkonsult.se iCalcreator 2.30.10//
CALSCALE:GREGORIAN
METHOD:PUBLISH
UID:9a9cfda4-12b7-44fb-9119-6625e17183e5
X-WR-CALDESC:
X-WR-RELCALID:49658350708bf0a195115bb52ba4516f
X-WR-TIMEZONE:America/Chicago
BEGIN:VTIMEZONE
TZID:America/Chicago
BEGIN:STANDARD
TZNAME:CST
DTSTART:20221106T020000
TZOFFSETFROM:-0500
TZOFFSETTO:-0600
RDATE:20231105T020000
RDATE:20241103T020000
END:STANDARD
BEGIN:DAYLIGHT
TZNAME:CDT
DTSTART:20230312T020000
TZOFFSETFROM:-0600
TZOFFSETTO:-0500
RDATE:20240310T020000
END:DAYLIGHT
END:VTIMEZONE
BEGIN:VEVENT
UID:aba7589b-f525-4311-a064-156c05daae59
DTSTAMP:20260425T114633Z
DESCRIPTION:
DTSTART;TZID=America/Chicago:20230518T093000
DTEND;TZID=America/Chicago:20230518T133000
LOCATION:9981 W. 190th St.\, Suite i\, Mokena\, IL 60448 US
SUMMARY:Volunteer Day
END:VEVENT
END:VCALENDAR
