BEGIN:VCALENDAR
VERSION:2.0
PRODID:-//myjoyfulheart.org//NONSGML kigkonsult.se iCalcreator 2.30.10//
CALSCALE:GREGORIAN
METHOD:PUBLISH
UID:b994149c-03a1-4429-8564-232445156c2d
X-WR-CALDESC:
X-WR-RELCALID:56b5f5703d2a3d90cd02a91a6d60a40a
X-WR-TIMEZONE:America/Chicago
BEGIN:VTIMEZONE
TZID:America/Chicago
BEGIN:STANDARD
TZNAME:CST
DTSTART:20221106T020000
TZOFFSETFROM:-0500
TZOFFSETTO:-0600
RDATE:20231105T020000
RDATE:20241103T020000
END:STANDARD
BEGIN:DAYLIGHT
TZNAME:CDT
DTSTART:20230312T020000
TZOFFSETFROM:-0600
TZOFFSETTO:-0500
RDATE:20240310T020000
END:DAYLIGHT
END:VTIMEZONE
BEGIN:VEVENT
UID:c21e15b6-db5c-4012-888b-e80e1516005d
DTSTAMP:20260425T114459Z
DESCRIPTION:
DTSTART;TZID=America/Chicago:20230517T103000
DTEND;TZID=America/Chicago:20230517T110000
LOCATION:9981 W. 190th St.\, Suite i\, Mokena\, IL 60448 US
SUMMARY:New Volunteer Tour
END:VEVENT
END:VCALENDAR
