BEGIN:VCALENDAR
VERSION:2.0
PRODID:-//myjoyfulheart.org//NONSGML kigkonsult.se iCalcreator 2.30.10//
CALSCALE:GREGORIAN
METHOD:PUBLISH
UID:6a32e9f1-0094-44ef-b931-474b9403315c
X-WR-CALDESC:
X-WR-RELCALID:e0a665876231ce36b80e470f14876b33
X-WR-TIMEZONE:America/Chicago
BEGIN:VTIMEZONE
TZID:America/Chicago
BEGIN:STANDARD
TZNAME:CST
DTSTART:20221106T020000
TZOFFSETFROM:-0500
TZOFFSETTO:-0600
RDATE:20231105T020000
RDATE:20241103T020000
END:STANDARD
BEGIN:DAYLIGHT
TZNAME:CDT
DTSTART:20230312T020000
TZOFFSETFROM:-0600
TZOFFSETTO:-0500
RDATE:20240310T020000
END:DAYLIGHT
END:VTIMEZONE
BEGIN:VEVENT
UID:37464e5c-3c05-486e-979c-ccaa289dc449
DTSTAMP:20260425T114220Z
DESCRIPTION:
DTSTART;TZID=America/Chicago:20230512T093000
DTEND;TZID=America/Chicago:20230512T133000
LOCATION:
SUMMARY:Volunteer Day
END:VEVENT
END:VCALENDAR
