BEGIN:VCALENDAR
VERSION:2.0
PRODID:-//myjoyfulheart.org//NONSGML kigkonsult.se iCalcreator 2.30.10//
CALSCALE:GREGORIAN
METHOD:PUBLISH
UID:1a84f20b-0dac-4c09-9e9f-0237b79bc6b4
X-WR-CALDESC:
X-WR-RELCALID:7caf755664755c1ed638083a3ac2a826
X-WR-TIMEZONE:America/Chicago
BEGIN:VTIMEZONE
TZID:America/Chicago
BEGIN:STANDARD
TZNAME:CST
DTSTART:20221106T020000
TZOFFSETFROM:-0500
TZOFFSETTO:-0600
RDATE:20231105T020000
END:STANDARD
BEGIN:DAYLIGHT
TZNAME:CDT
DTSTART:20230312T020000
TZOFFSETFROM:-0600
TZOFFSETTO:-0500
RDATE:20240310T020000
END:DAYLIGHT
END:VTIMEZONE
BEGIN:VEVENT
UID:9c1b420b-cfcf-433f-9096-9ac677898095
DTSTAMP:20260425T131029Z
DESCRIPTION:
DTSTART;TZID=America/Chicago:20230428T093000
DTEND;TZID=America/Chicago:20230428T133000
LOCATION:
SUMMARY:Volunteer Day
END:VEVENT
END:VCALENDAR
